BEGIN:VCALENDAR
VERSION:2.0
PRODID:-//PYVOBJECT//NONSGML Version 1//EN
BEGIN:VEVENT
UID:19375:1262
DTSTART:20130211T000000
DTEND:20130212T000000
DESCRIPTION:
DTSTAMP:20260425T210032Z
SUMMARY:Faschingdienstag geschlossen
END:VEVENT
END:VCALENDAR
